BEGIN:VCALENDAR
VERSION:2.0
PRODID:-//East Donegal Township - ECPv6.15.20//NONSGML v1.0//EN
CALSCALE:GREGORIAN
METHOD:PUBLISH
X-WR-CALNAME:East Donegal Township
X-ORIGINAL-URL:https://eastdonegaltwp.com
X-WR-CALDESC:Events for East Donegal Township
REFRESH-INTERVAL;VALUE=DURATION:PT1H
X-Robots-Tag:noindex
X-PUBLISHED-TTL:PT1H
BEGIN:VTIMEZONE
TZID:America/New_York
BEGIN:DAYLIGHT
TZOFFSETFROM:-0500
TZOFFSETTO:-0400
TZNAME:EDT
DTSTART:20250309T070000
END:DAYLIGHT
BEGIN:STANDARD
TZOFFSETFROM:-0400
TZOFFSETTO:-0500
TZNAME:EST
DTSTART:20251102T060000
END:STANDARD
BEGIN:DAYLIGHT
TZOFFSETFROM:-0500
TZOFFSETTO:-0400
TZNAME:EDT
DTSTART:20260308T070000
END:DAYLIGHT
BEGIN:STANDARD
TZOFFSETFROM:-0400
TZOFFSETTO:-0500
TZNAME:EST
DTSTART:20261101T060000
END:STANDARD
BEGIN:DAYLIGHT
TZOFFSETFROM:-0500
TZOFFSETTO:-0400
TZNAME:EDT
DTSTART:20270314T070000
END:DAYLIGHT
BEGIN:STANDARD
TZOFFSETFROM:-0400
TZOFFSETTO:-0500
TZNAME:EST
DTSTART:20271107T060000
END:STANDARD
END:VTIMEZONE
BEGIN:VEVENT
DTSTART;TZID=America/New_York:20260317T083000
DTEND;TZID=America/New_York:20260317T103000
DTSTAMP:20260424T122111
CREATED:20251222T144606Z
LAST-MODIFIED:20251222T144606Z
UID:6531-1773736200-1773743400@eastdonegaltwp.com
SUMMARY:Board of Supervisors Work Session
DESCRIPTION:For meeting agenda please click HERE. \n\n\n	Related
URL:https://eastdonegaltwp.com/event/board-of-supervisors-work-session-2/2026-03-17/
LOCATION:East Donegal Township Municipal Building\, 190 Rock Point Road\, Marietta\, PA\, 17547\, United States
END:VEVENT
BEGIN:VEVENT
DTSTART;TZID=America/New_York:20260217T083000
DTEND;TZID=America/New_York:20260217T103000
DTSTAMP:20260424T122111
CREATED:20251222T144606Z
LAST-MODIFIED:20251222T144606Z
UID:6530-1771317000-1771324200@eastdonegaltwp.com
SUMMARY:Board of Supervisors Work Session
DESCRIPTION:For meeting agenda please click HERE. \n\n\n	Related
URL:https://eastdonegaltwp.com/event/board-of-supervisors-work-session-2/2026-02-17/
LOCATION:East Donegal Township Municipal Building\, 190 Rock Point Road\, Marietta\, PA\, 17547\, United States
END:VEVENT
BEGIN:VEVENT
DTSTART;TZID=America/New_York:20260120T083000
DTEND;TZID=America/New_York:20260120T103000
DTSTAMP:20260424T122111
CREATED:20251222T144606Z
LAST-MODIFIED:20251222T144606Z
UID:6529-1768897800-1768905000@eastdonegaltwp.com
SUMMARY:Board of Supervisors Work Session
DESCRIPTION:For meeting agenda please click HERE. \n\n\n	Related
URL:https://eastdonegaltwp.com/event/board-of-supervisors-work-session-2/2026-01-20/
LOCATION:East Donegal Township Municipal Building\, 190 Rock Point Road\, Marietta\, PA\, 17547\, United States
END:VEVENT
END:VCALENDAR