BEGIN:VCALENDAR
VERSION:2.0
PRODID:-//East Donegal Township - ECPv6.15.20//NONSGML v1.0//EN
CALSCALE:GREGORIAN
METHOD:PUBLISH
X-ORIGINAL-URL:https://eastdonegaltwp.com
X-WR-CALDESC:Events for East Donegal Township
REFRESH-INTERVAL;VALUE=DURATION:PT1H
X-Robots-Tag:noindex
X-PUBLISHED-TTL:PT1H
BEGIN:VTIMEZONE
TZID:America/New_York
BEGIN:DAYLIGHT
TZOFFSETFROM:-0500
TZOFFSETTO:-0400
TZNAME:EDT
DTSTART:20250309T070000
END:DAYLIGHT
BEGIN:STANDARD
TZOFFSETFROM:-0400
TZOFFSETTO:-0500
TZNAME:EST
DTSTART:20251102T060000
END:STANDARD
BEGIN:DAYLIGHT
TZOFFSETFROM:-0500
TZOFFSETTO:-0400
TZNAME:EDT
DTSTART:20260308T070000
END:DAYLIGHT
BEGIN:STANDARD
TZOFFSETFROM:-0400
TZOFFSETTO:-0500
TZNAME:EST
DTSTART:20261101T060000
END:STANDARD
BEGIN:DAYLIGHT
TZOFFSETFROM:-0500
TZOFFSETTO:-0400
TZNAME:EDT
DTSTART:20270314T070000
END:DAYLIGHT
BEGIN:STANDARD
TZOFFSETFROM:-0400
TZOFFSETTO:-0500
TZNAME:EST
DTSTART:20271107T060000
END:STANDARD
END:VTIMEZONE
BEGIN:VEVENT
DTSTART;TZID=America/New_York:20260423T190000
DTEND;TZID=America/New_York:20260423T190000
DTSTAMP:20260424T121329
CREATED:20251222T155733Z
LAST-MODIFIED:20251222T162856Z
UID:6579-1776970800-1776970800@eastdonegaltwp.com
SUMMARY:Park Commission Meeting
DESCRIPTION:For meeting agenda please click HERE. \n\n\n	Related
URL:https://eastdonegaltwp.com/event/park-commission-7/2026-04-23/
END:VEVENT
BEGIN:VEVENT
DTSTART;TZID=America/New_York:20260326T190000
DTEND;TZID=America/New_York:20260326T190000
DTSTAMP:20260424T121329
CREATED:20251222T155733Z
LAST-MODIFIED:20251222T162856Z
UID:6578-1774551600-1774551600@eastdonegaltwp.com
SUMMARY:Park Commission Meeting
DESCRIPTION:For meeting agenda please click HERE. \n\n\n	Related
URL:https://eastdonegaltwp.com/event/park-commission-7/2026-03-26/
END:VEVENT
BEGIN:VEVENT
DTSTART;TZID=America/New_York:20260226T190000
DTEND;TZID=America/New_York:20260226T190000
DTSTAMP:20260424T121329
CREATED:20251222T155733Z
LAST-MODIFIED:20251222T162856Z
UID:6577-1772132400-1772132400@eastdonegaltwp.com
SUMMARY:Park Commission Meeting
DESCRIPTION:For meeting agenda please click HERE. \n\n\n	Related
URL:https://eastdonegaltwp.com/event/park-commission-7/2026-02-26/
END:VEVENT
BEGIN:VEVENT
DTSTART;TZID=America/New_York:20260122T190000
DTEND;TZID=America/New_York:20260122T190000
DTSTAMP:20260424T121329
CREATED:20251222T155733Z
LAST-MODIFIED:20251222T162856Z
UID:6576-1769108400-1769108400@eastdonegaltwp.com
SUMMARY:Park Commission Meeting
DESCRIPTION:For meeting agenda please click HERE. \n\n\n	Related
URL:https://eastdonegaltwp.com/event/park-commission-7/2026-01-22/
END:VEVENT
END:VCALENDAR