BEGIN:VCALENDAR
VERSION:2.0
PRODID:-//East Donegal Township - ECPv6.15.20//NONSGML v1.0//EN
CALSCALE:GREGORIAN
METHOD:PUBLISH
X-WR-CALNAME:East Donegal Township
X-ORIGINAL-URL:https://eastdonegaltwp.com
X-WR-CALDESC:Events for East Donegal Township
REFRESH-INTERVAL;VALUE=DURATION:PT1H
X-Robots-Tag:noindex
X-PUBLISHED-TTL:PT1H
BEGIN:VTIMEZONE
TZID:America/New_York
BEGIN:DAYLIGHT
TZOFFSETFROM:-0500
TZOFFSETTO:-0400
TZNAME:EDT
DTSTART:20250309T070000
END:DAYLIGHT
BEGIN:STANDARD
TZOFFSETFROM:-0400
TZOFFSETTO:-0500
TZNAME:EST
DTSTART:20251102T060000
END:STANDARD
BEGIN:DAYLIGHT
TZOFFSETFROM:-0500
TZOFFSETTO:-0400
TZNAME:EDT
DTSTART:20260308T070000
END:DAYLIGHT
BEGIN:STANDARD
TZOFFSETFROM:-0400
TZOFFSETTO:-0500
TZNAME:EST
DTSTART:20261101T060000
END:STANDARD
BEGIN:DAYLIGHT
TZOFFSETFROM:-0500
TZOFFSETTO:-0400
TZNAME:EDT
DTSTART:20270314T070000
END:DAYLIGHT
BEGIN:STANDARD
TZOFFSETFROM:-0400
TZOFFSETTO:-0500
TZNAME:EST
DTSTART:20271107T060000
END:STANDARD
END:VTIMEZONE
BEGIN:VEVENT
DTSTART;TZID=America/New_York:20260409T190000
DTEND;TZID=America/New_York:20260409T190000
DTSTAMP:20260424T174414
CREATED:20251222T145055Z
LAST-MODIFIED:20260309T132056Z
UID:6544-1775761200-1775761200@eastdonegaltwp.com
SUMMARY:Planning Commission Meeting
DESCRIPTION:For meeting agenda please click HERE. \n\n\n	Related
URL:https://eastdonegaltwp.com/event/planning-commission-11-2026-02-12/2026-04-09/
END:VEVENT
BEGIN:VEVENT
DTSTART;TZID=America/New_York:20260212T190000
DTEND;TZID=America/New_York:20260212T190000
DTSTAMP:20260424T174414
CREATED:20251222T145055Z
LAST-MODIFIED:20260309T132056Z
UID:6542-1770922800-1770922800@eastdonegaltwp.com
SUMMARY:Planning Commission Meeting
DESCRIPTION:For meeting agenda please click HERE. \n\n\n	Related
URL:https://eastdonegaltwp.com/event/planning-commission-11-2026-02-12/2026-02-12/
END:VEVENT
END:VCALENDAR