BEGIN:VCALENDAR
VERSION:2.0
PRODID:-//East Donegal Township - ECPv6.15.20//NONSGML v1.0//EN
CALSCALE:GREGORIAN
METHOD:PUBLISH
X-WR-CALNAME:East Donegal Township
X-ORIGINAL-URL:https://eastdonegaltwp.com
X-WR-CALDESC:Events for East Donegal Township
REFRESH-INTERVAL;VALUE=DURATION:PT1H
X-Robots-Tag:noindex
X-PUBLISHED-TTL:PT1H
BEGIN:VTIMEZONE
TZID:America/New_York
BEGIN:DAYLIGHT
TZOFFSETFROM:-0500
TZOFFSETTO:-0400
TZNAME:EDT
DTSTART:20250309T070000
END:DAYLIGHT
BEGIN:STANDARD
TZOFFSETFROM:-0400
TZOFFSETTO:-0500
TZNAME:EST
DTSTART:20251102T060000
END:STANDARD
BEGIN:DAYLIGHT
TZOFFSETFROM:-0500
TZOFFSETTO:-0400
TZNAME:EDT
DTSTART:20260308T070000
END:DAYLIGHT
BEGIN:STANDARD
TZOFFSETFROM:-0400
TZOFFSETTO:-0500
TZNAME:EST
DTSTART:20261101T060000
END:STANDARD
BEGIN:DAYLIGHT
TZOFFSETFROM:-0500
TZOFFSETTO:-0400
TZNAME:EDT
DTSTART:20270314T070000
END:DAYLIGHT
BEGIN:STANDARD
TZOFFSETFROM:-0400
TZOFFSETTO:-0500
TZNAME:EST
DTSTART:20271107T060000
END:STANDARD
END:VTIMEZONE
BEGIN:VEVENT
DTSTART;TZID=America/New_York:20260611T190000
DTEND;TZID=America/New_York:20260611T190000
DTSTAMP:20260424T155902
CREATED:20251222T145055Z
LAST-MODIFIED:20260309T132056Z
UID:6546-1781204400-1781204400@eastdonegaltwp.com
SUMMARY:Planning Commission Meeting
DESCRIPTION:For meeting agenda please click HERE. \n\n\n	Related
URL:https://eastdonegaltwp.com/event/planning-commission-11-2026-02-12/2026-06-11/
END:VEVENT
BEGIN:VEVENT
DTSTART;TZID=America/New_York:20260709T190000
DTEND;TZID=America/New_York:20260709T190000
DTSTAMP:20260424T155902
CREATED:20251222T145055Z
LAST-MODIFIED:20260309T132056Z
UID:6547-1783623600-1783623600@eastdonegaltwp.com
SUMMARY:Planning Commission Meeting
DESCRIPTION:For meeting agenda please click HERE. \n\n\n	Related
URL:https://eastdonegaltwp.com/event/planning-commission-11-2026-02-12/2026-07-09/
END:VEVENT
BEGIN:VEVENT
DTSTART;TZID=America/New_York:20260813T190000
DTEND;TZID=America/New_York:20260813T190000
DTSTAMP:20260424T155902
CREATED:20251222T145055Z
LAST-MODIFIED:20260309T132056Z
UID:6548-1786647600-1786647600@eastdonegaltwp.com
SUMMARY:Planning Commission Meeting
DESCRIPTION:For meeting agenda please click HERE. \n\n\n	Related
URL:https://eastdonegaltwp.com/event/planning-commission-11-2026-02-12/2026-08-13/
END:VEVENT
BEGIN:VEVENT
DTSTART;TZID=America/New_York:20260910T190000
DTEND;TZID=America/New_York:20260910T190000
DTSTAMP:20260424T155902
CREATED:20251222T145055Z
LAST-MODIFIED:20260309T132056Z
UID:6549-1789066800-1789066800@eastdonegaltwp.com
SUMMARY:Planning Commission Meeting
DESCRIPTION:For meeting agenda please click HERE. \n\n\n	Related
URL:https://eastdonegaltwp.com/event/planning-commission-11-2026-02-12/2026-09-10/
END:VEVENT
BEGIN:VEVENT
DTSTART;TZID=America/New_York:20261008T190000
DTEND;TZID=America/New_York:20261008T190000
DTSTAMP:20260424T155902
CREATED:20251222T145055Z
LAST-MODIFIED:20260309T132056Z
UID:6550-1791486000-1791486000@eastdonegaltwp.com
SUMMARY:Planning Commission Meeting
DESCRIPTION:For meeting agenda please click HERE. \n\n\n	Related
URL:https://eastdonegaltwp.com/event/planning-commission-11-2026-02-12/2026-10-08/
END:VEVENT
BEGIN:VEVENT
DTSTART;TZID=America/New_York:20261112T190000
DTEND;TZID=America/New_York:20261112T190000
DTSTAMP:20260424T155902
CREATED:20251222T145055Z
LAST-MODIFIED:20260309T132056Z
UID:6551-1794510000-1794510000@eastdonegaltwp.com
SUMMARY:Planning Commission Meeting
DESCRIPTION:For meeting agenda please click HERE. \n\n\n	Related
URL:https://eastdonegaltwp.com/event/planning-commission-11-2026-02-12/2026-11-12/
END:VEVENT
BEGIN:VEVENT
DTSTART;TZID=America/New_York:20261210T190000
DTEND;TZID=America/New_York:20261210T190000
DTSTAMP:20260424T155902
CREATED:20251222T145055Z
LAST-MODIFIED:20260309T132056Z
UID:6552-1796929200-1796929200@eastdonegaltwp.com
SUMMARY:Planning Commission Meeting
DESCRIPTION:For meeting agenda please click HERE. \n\n\n	Related
URL:https://eastdonegaltwp.com/event/planning-commission-11-2026-02-12/2026-12-10/
END:VEVENT
END:VCALENDAR