BEGIN:VCALENDAR
VERSION:2.0
PRODID:-//East Donegal Township - ECPv6.15.20//NONSGML v1.0//EN
CALSCALE:GREGORIAN
METHOD:PUBLISH
X-ORIGINAL-URL:https://eastdonegaltwp.com
X-WR-CALDESC:Events for East Donegal Township
REFRESH-INTERVAL;VALUE=DURATION:PT1H
X-Robots-Tag:noindex
X-PUBLISHED-TTL:PT1H
BEGIN:VTIMEZONE
TZID:America/New_York
BEGIN:DAYLIGHT
TZOFFSETFROM:-0500
TZOFFSETTO:-0400
TZNAME:EDT
DTSTART:20200308T070000
END:DAYLIGHT
BEGIN:STANDARD
TZOFFSETFROM:-0400
TZOFFSETTO:-0500
TZNAME:EST
DTSTART:20201101T060000
END:STANDARD
BEGIN:DAYLIGHT
TZOFFSETFROM:-0500
TZOFFSETTO:-0400
TZNAME:EDT
DTSTART:20210314T070000
END:DAYLIGHT
BEGIN:STANDARD
TZOFFSETFROM:-0400
TZOFFSETTO:-0500
TZNAME:EST
DTSTART:20211107T060000
END:STANDARD
BEGIN:DAYLIGHT
TZOFFSETFROM:-0500
TZOFFSETTO:-0400
TZNAME:EDT
DTSTART:20220313T070000
END:DAYLIGHT
BEGIN:STANDARD
TZOFFSETFROM:-0400
TZOFFSETTO:-0500
TZNAME:EST
DTSTART:20221106T060000
END:STANDARD
BEGIN:DAYLIGHT
TZOFFSETFROM:-0500
TZOFFSETTO:-0400
TZNAME:EDT
DTSTART:20230312T070000
END:DAYLIGHT
BEGIN:STANDARD
TZOFFSETFROM:-0400
TZOFFSETTO:-0500
TZNAME:EST
DTSTART:20231105T060000
END:STANDARD
BEGIN:DAYLIGHT
TZOFFSETFROM:-0500
TZOFFSETTO:-0400
TZNAME:EDT
DTSTART:20240310T070000
END:DAYLIGHT
BEGIN:STANDARD
TZOFFSETFROM:-0400
TZOFFSETTO:-0500
TZNAME:EST
DTSTART:20241103T060000
END:STANDARD
END:VTIMEZONE
BEGIN:VEVENT
DTSTART;TZID=America/New_York:20230604T060000
DTEND;TZID=America/New_York:20230604T200000
DTSTAMP:20260421T094202
CREATED:20230523T163857Z
LAST-MODIFIED:20230523T163857Z
UID:5441-1685858400-1685908800@eastdonegaltwp.com
SUMMARY:Music In The Park
DESCRIPTION:Sunday\, June 4\, 2023           6:00 pm \nThe program will be presented by Bump City.  The  band plays soul\, funk\, and classic R&B that will make you dance. \n  \n\n\n	Related
URL:https://eastdonegaltwp.com/event/music-in-the-park/2023-06-04/
LOCATION:Fuhrman Park
END:VEVENT
BEGIN:VEVENT
DTSTART;TZID=America/New_York:20210629T183000
DTEND;TZID=America/New_York:20210629T200000
DTSTAMP:20260421T094202
CREATED:20210617T180532Z
LAST-MODIFIED:20210617T180532Z
UID:4695-1624991400-1624996800@eastdonegaltwp.com
SUMMARY:Skatepark Meeting - Fuhrman Park
DESCRIPTION:Related
URL:https://eastdonegaltwp.com/event/skatepark-meeting-fuhrman-park/
LOCATION:Fuhrman Park
END:VEVENT
END:VCALENDAR